BEGIN:VCALENDAR
VERSION:2.0
PRODID:-//ChamberMaster//Event Calendar 2.0//EN
METHOD:PUBLISH
X-PUBLISHED-TTL:P3D
REFRESH-INTERVAL:P3D
CALSCALE:GREGORIAN
BEGIN:VEVENT
DTSTART:20191027T200000Z
DTEND:20191027T220000Z
X-MICROSOFT-CDO-ALLDAYEVENT:FALSE
SUMMARY:Fiesta Cultura: Hispanic Heritage Festival Celebration
DESCRIPTION:Join us for an afternoon of free food\, music and dancing. Experience the best of Hispanic culture in Central Florida!
X-ALT-DESC;FMTTYPE=text/html:Join us for an afternoon of free food\, music and dancing. Experience the best of Hispanic culture in Central Florida!
LOCATION:University High School: 2450 Cougar Way\, Orlando Florida\, 32817
UID:e.1857.5667
SEQUENCE:3
DTSTAMP:20260423T215006Z
URL:https://business.maitlandchamber.com/events/details/fiesta-cultura-hispanic-heritage-festival-celebration-5667
END:VEVENT

END:VCALENDAR
