BEGIN:VCALENDAR
VERSION:2.0
PRODID:-//ChamberMaster//Event Calendar 2.0//EN
METHOD:PUBLISH
X-PUBLISHED-TTL:P3D
REFRESH-INTERVAL:P3D
CALSCALE:GREGORIAN
BEGIN:VEVENT
DTSTART:20170505T210000Z
DTEND:20170506T010000Z
X-MICROSOFT-CDO-ALLDAYEVENT:FALSE
SUMMARY:"Member Happening!" - F.A.V.O.
DESCRIPTION:Come on out with your family for an evening of art\, live music and food trucks in Orlando.  Over 40 talented artists on the premises. Among them is one of our very own\, Kevin Stewart with Money Tree and Me.  Kevin exhibits photography and 100% of his proceeds are donated to Easter Seals Florida to support people living with disabilities in our community.  \n\n\n\nThe FAVO Exhibition takes place at an old motel in Orlando. Each individual motel room now houses an art studio\, so visitors can walk around from one room to the next and experience a different style and a different artist. Kid friendly and it's a great time of year to be out and about in the early evening.  Drop in any time between 5pm and 9pm.
X-ALT-DESC;FMTTYPE=text/html:Come on out with your family for an evening of art\, live music and food trucks in Orlando. &nbsp\;Over 40 talented artists on the premises. Among them is one of our very own\, Kevin Stewart with Money Tree and Me. &nbsp\;Kevin exhibits photography and 100% of his proceeds are donated to Easter Seals Florida to support people living with disabilities in our community. &nbsp\;<br />\n<br />\nThe FAVO Exhibition takes place at an old motel in Orlando. Each individual motel room now houses an art studio\, so visitors can walk around from one room to the next and experience a different style and a different artist. Kid friendly and it&#39\;s a great time of year to be out and about in the early evening. &nbsp\;Drop in any time between 5pm and 9pm. &nbsp\;
LOCATION:221 E. Colonial Drive Orlando\, FL 32801
UID:e.1857.4244
SEQUENCE:3
DTSTAMP:20260426T012939Z
URL:https://business.maitlandchamber.com/events/details/f-a-v-o-05-05-2017-4244
END:VEVENT

END:VCALENDAR
