BEGIN:VCALENDAR
VERSION:2.0
PRODID:-//ChamberMaster//Event Calendar 2.0//EN
METHOD:PUBLISH
X-PUBLISHED-TTL:P3D
REFRESH-INTERVAL:P3D
CALSCALE:GREGORIAN
BEGIN:VEVENT
DTSTART:20170622T160000Z
DTEND:20170622T173000Z
X-MICROSOFT-CDO-ALLDAYEVENT:FALSE
SUMMARY:Events Committee 2017
DESCRIPTION:Events Committee\n\nWill Meet From\n\n12:00 PM - 1:30 PM\n\n\n\n4th Thursday Monthly\n\nThis Is A Time Change Moving Forward
X-ALT-DESC;FMTTYPE=text/html:&nbsp\;\n<h4 style="text-align: center\;"><span style="font-size:18px\;"><strong>Events Committee<br />\nWill Meet From<br />\n12:00 PM - 1:30 PM<br />\n<br />\n4th Thursday Monthly</strong></span></h4>\n\n<h4 style="text-align: center\;"><span style="color:#FF0000\;"><strong><span style="font-size:18px\;">This Is A Time Change Moving Forward</span></strong></span></h4>\n
LOCATION:Chamber Office 110 N. Maitland Avenue Maitland\, FL 32751
UID:e.1857.4072
SEQUENCE:3
DTSTAMP:20260425T233817Z
URL:https://business.maitlandchamber.com/events/details/events-committee-2017-06-22-2017-4072
END:VEVENT

END:VCALENDAR
