BEGIN:VCALENDAR
VERSION:2.0
PRODID:-//ChamberMaster//Event Calendar 2.0//EN
METHOD:PUBLISH
X-PUBLISHED-TTL:P3D
REFRESH-INTERVAL:P3D
CALSCALE:GREGORIAN
BEGIN:VEVENT
DTSTART:20170601T160000Z
DTEND:20170601T173000Z
X-MICROSOFT-CDO-ALLDAYEVENT:FALSE
SUMMARY:Events Committee 2017
DESCRIPTION:Events Committee\n\nWill Meet From\n\n9:00 AM - 10:30 AM\n\n\n\n4th Thursday Monthly\n\nThe Meeting Originally Scheduled For\n\nThursday\, May 25th Has Been Rescheduled\n\nFor Thursday\, June 1st\n\n12:00 PM - 1:30 PM\n\nFeel Free To Bring Your Lunch!
X-ALT-DESC;FMTTYPE=text/html:&nbsp\;\n<h4 style="text-align: center\;"><span style="font-size:18px\;"><strong>Events Committee<br />\nWill Meet From<br />\n<s>9:00 AM - 10:30 AM</s><br />\n<br />\n<s>4th Thursday Monthly</s></strong></span></h4>\n\n<h4 style="text-align: center\;"><span style="color:#FF0000\;"><span style="font-size:16px\;"><strong>The Meeting Originally Scheduled For<br />\nThursday\, May 25th Has Been Rescheduled<br />\nFor Thursday\, June 1st<br />\n12:00 PM - 1:30 PM<br />\nFeel Free To Bring Your Lunch!</strong></span></span></h4>\n
LOCATION:Chamber Office 110 N. Maitland Avenue Maitland\, FL 32751
UID:e.1857.4071
SEQUENCE:3
DTSTAMP:20260425T233817Z
URL:https://business.maitlandchamber.com/events/details/events-committee-2017-05-25-2017-4071
END:VEVENT

END:VCALENDAR
