BEGIN:VCALENDAR
VERSION:2.0
PRODID:-//ChamberMaster//Event Calendar 2.0//EN
METHOD:PUBLISH
X-PUBLISHED-TTL:P3D
REFRESH-INTERVAL:P3D
CALSCALE:GREGORIAN
BEGIN:VEVENT
DTSTART:20171010T123000Z
DTEND:20171010T133000Z
X-MICROSOFT-CDO-ALLDAYEVENT:FALSE
SUMMARY:Coffee Connections! 2017
DESCRIPTION:COFFEE CONNECTIONS!\n\nNetwork Group\n\n\n\nMeets the 2nd Tuesday Monthly\n\n\n\n \n\nHot Breakfast Sponsored & Provided By
X-ALT-DESC;FMTTYPE=text/html:<h4 style="text-align: center\;"><br />\n<strong><span style="font-size:18px\;">COFFEE CONNECTIONS!<br />\nNetwork Group<br />\n<br />\nMeets the 2nd Tuesday Monthly</span></strong></h4>\n\n<h4 style="text-align: center\;"><br />\n&nbsp\;</h4>\n\n<h4 style="text-align: center\;"><span style="font-size:18px\;"><strong>Hot Breakfast Sponsored &amp\; Provided By</strong></span></h4>\n
LOCATION:Chamber Office 110 N. Maitland Avenue Maitland\, FL 32751
UID:e.1857.4064
SEQUENCE:3
DTSTAMP:20260425T163248Z
URL:https://business.maitlandchamber.com/events/details/coffee-connections-2017-10-10-2017-4064
END:VEVENT

END:VCALENDAR
