BEGIN:VCALENDAR
VERSION:2.0
PRODID:-//ChamberMaster//Event Calendar 2.0//EN
METHOD:PUBLISH
X-PUBLISHED-TTL:P3D
REFRESH-INTERVAL:P3D
CALSCALE:GREGORIAN
BEGIN:VEVENT
DTSTART;VALUE=DATE:20180704
DTEND;VALUE=DATE:20180705
TRANSP:TRANSPARENT
X-MICROSOFT-CDO-ALLDAYEVENT:TRUE
SUMMARY:Chamber Office Will Be Closed
DESCRIPTION:The Chamber Office Will Be Closed\n\nIn Observance Of Independence Day\n\nWednesday\, July 4\, 2018\n\n\n\nThe Office Will Re-Open As Usual\n\nOn Thursday\, July 5\, 2018
X-ALT-DESC;FMTTYPE=text/html:<div style="text-align: center\;">&nbsp\;</div>\n\n<h4 style="text-align: center\;"><span style="font-size:18px\;"><strong>The Chamber Office Will Be Closed<br />\nIn Observance&nbsp\;Of Independence&nbsp\;Day<br />\nWednesday\, July&nbsp\;4\, 2018<br />\n<br />\nThe Office Will Re-Open As Usual<br />\nOn Thursday\, July 5\, 2018</strong></span></h4>\n
LOCATION:
UID:e.1857.4454
SEQUENCE:3
DTSTAMP:20260425T000513Z
URL:https://business.maitlandchamber.com/events/details/chamber-office-will-be-closed-4454
END:VEVENT

END:VCALENDAR
