BEGIN:VCALENDAR
VERSION:2.0
PRODID:-//ChamberMaster//Event Calendar 2.0//EN
METHOD:PUBLISH
X-PUBLISHED-TTL:P3D
REFRESH-INTERVAL:P3D
CALSCALE:GREGORIAN
BEGIN:VEVENT
DTSTART;VALUE=DATE:20170529
DTEND;VALUE=DATE:20170530
TRANSP:TRANSPARENT
X-MICROSOFT-CDO-ALLDAYEVENT:TRUE
SUMMARY:Chamber Closed - Memorial Day
DESCRIPTION:The Chamber Office Will Be Closed\n\nFor The Memorial Day Holiday
X-ALT-DESC;FMTTYPE=text/html:&nbsp\;\n<div style="text-align: center\;"><span style="font-size:18px\;"><strong>The Chamber Office Will Be Closed<br />\nFor The Memorial Day&nbsp\;Holiday</strong></span><br />\n&nbsp\;</div>\n
LOCATION:
UID:e.1857.4266
SEQUENCE:3
DTSTAMP:20260426T013109Z
URL:https://business.maitlandchamber.com/events/details/chamber-closed-memorial-day-4266
END:VEVENT

END:VCALENDAR
