BEGIN:VCALENDAR
VERSION:2.0
PRODID:-//ChamberMaster//Event Calendar 2.0//EN
METHOD:PUBLISH
X-PUBLISHED-TTL:P3D
REFRESH-INTERVAL:P3D
CALSCALE:GREGORIAN
BEGIN:VEVENT
DTSTART;VALUE=DATE:20170704
DTEND;VALUE=DATE:20170705
TRANSP:TRANSPARENT
X-MICROSOFT-CDO-ALLDAYEVENT:TRUE
SUMMARY:Chamber Closed - Independence Day
DESCRIPTION:The Chamber Office\n\nWill Be Closed On\n\nTuesday\n\nJuly 4\, 2017
X-ALT-DESC;FMTTYPE=text/html:<div style="text-align: center\;">&nbsp\;</div>\n\n<h4 style="text-align: center\;"><span style="font-size:18px\;"><strong>The Chamber Office<br />\nWill Be Closed On<br />\nTuesday<br />\nJuly 4\, 2017</strong></span><br />\n&nbsp\;</h4>\n
LOCATION:
UID:e.1857.4275
SEQUENCE:3
DTSTAMP:20260425T215557Z
URL:https://business.maitlandchamber.com/events/details/chamber-closed-independence-day-4275
END:VEVENT

END:VCALENDAR
