BEGIN:VCALENDAR
VERSION:2.0
PRODID:-//ChamberMaster//Event Calendar 2.0//EN
METHOD:PUBLISH
X-PUBLISHED-TTL:P3D
REFRESH-INTERVAL:P3D
CALSCALE:GREGORIAN
BEGIN:VEVENT
DTSTART;VALUE=DATE:20170728
DTEND;VALUE=DATE:20170729
TRANSP:TRANSPARENT
X-MICROSOFT-CDO-ALLDAYEVENT:TRUE
SUMMARY:Chamber Closed
DESCRIPTION:The Chamber Office Will Be Closed\n\nFriday & Monday\n\nJuly 28 & 31\, 2017\n\n\n\nWe Will Reopen On\n\nTuesday\, August 1\, 2017
X-ALT-DESC;FMTTYPE=text/html:&nbsp\;\n<h4 style="text-align: center\;"><br />\n<span style="font-size:18px\;"><strong><span style="font-size:20px\;">The Chamber Office Will Be Closed<br />\nFriday &amp\; Monday<br />\nJuly 28&nbsp\;&amp\; 31\, 2017<br />\n<br />\nWe Will Reopen On<br />\nTuesday\, August 1\, 2017</span></strong></span><br />\n<br />\n&nbsp\;</h4>\n
LOCATION:
UID:e.1857.4280
SEQUENCE:3
DTSTAMP:20260425T215415Z
URL:https://business.maitlandchamber.com/events/details/chamber-closed-4280
END:VEVENT

END:VCALENDAR
