BEGIN:VCALENDAR
VERSION:2.0
PRODID:-//ChamberMaster//Event Calendar 2.0//EN
METHOD:PUBLISH
X-PUBLISHED-TTL:P3D
REFRESH-INTERVAL:P3D
CALSCALE:GREGORIAN
BEGIN:VEVENT
DTSTART:20211013T153000Z
DTEND:20211013T170000Z
X-MICROSOFT-CDO-ALLDAYEVENT:FALSE
SUMMARY:Chamber Business Luncheon- October
DESCRIPTION:We are so excited to bring back our Chamber Business Luncheon! \n\n\n\nMaitland Chamber Business luncheons are a great way to meet other Maitland Chamber Members as well as other community members. We invite a new speaker each lunch to discuss interesting\, local topics.  This month we are excited to have Sharon Anselmo\, City Manager from the City of Maitland for the annual State of the City Address.\n\n\n\nHot buffet styled lunch will be provided by the Hilton Garden Inn Winter Park. Space is limited due to Covid restrictions and walkup are currently not allowed. \n\n\n\nBe sure to take advantage of our Early Bird Pricing and register early! This event will SELL OUT!\n\n\n\nLunch sponsorship opportunities available.\n \n\nLunch Buffet Menu:\nPanko Breaded Chicken Breast- Stuffed Chicken Roulade (Spinach and Feta) served with a Sundried Tomato Cream Sauce\n\nBeef Sirloin- Grilled Beef Sirloin served with a Mushroom demi-glaze\n\nRoasted Herb Red Bliss Potatoes\n\nRoasted Zucchini and Squash Medley\n\nGarden Salad\n\nChef's Dessert Selections
X-ALT-DESC;FMTTYPE=text/html:<h3><span style="font-size: 13px\;"><strong>We are so excited to bring back our Chamber Business Luncheon!&nbsp\;</strong><br />\n<br />\nMaitland Chamber Business luncheons are a great way to meet other Maitland Chamber Members as well as other community members. We invite a new speaker each lunch to discuss interesting\, local topics.&nbsp\; This month we are excited to have <b>Sharon Anselmo\, City Manager from the City of Maitland for the annual State of the City Address.</b><br />\n<br />\nHot buffet styled lunch will be provided by the <strong>Hilton Garden Inn Winter Park</strong>. Space is limited due to Covid restrictions and walkup are currently not allowed.&nbsp\;<br />\n<br />\nBe sure to take advantage of our Early Bird Pricing and register early! This event will SELL OUT!<br />\n<br />\n<a href="https://chambermaster.blob.core.windows.net/userfiles/UserFiles/chambers/1857/File/2021/2021LuncheonSponsorshipBenefits.pdf">Lunch sponsorship opportunities available.</a></span></h3>\n&nbsp\;\n\n<h3><strong>Lunch Buffet Menu:</strong></h3>\nPanko Breaded Chicken Breast- Stuffed Chicken Roulade (Spinach and Feta) served with a Sundried Tomato Cream Sauce<br />\nBeef Sirloin- Grilled Beef Sirloin served with a Mushroom demi-glaze<br />\nRoasted Herb Red Bliss Potatoes<br />\nRoasted Zucchini and Squash Medley<br />\nGarden Salad<br />\nChef&#39\;s Dessert Selections<br />\n&nbsp\;
LOCATION:1275 Lee Road Winter Park\, FL 32789
UID:e.1857.6711
SEQUENCE:3
DTSTAMP:20260420T032538Z
URL:https://business.maitlandchamber.com/events/details/chamber-business-luncheon-october-6711
END:VEVENT

END:VCALENDAR
