BEGIN:VCALENDAR
VERSION:2.0
PRODID:-//ChamberMaster//Event Calendar 2.0//EN
METHOD:PUBLISH
X-PUBLISHED-TTL:P3D
REFRESH-INTERVAL:P3D
CALSCALE:GREGORIAN
BEGIN:VEVENT
DTSTART:20220420T200000Z
DTEND:20220420T220000Z
X-MICROSOFT-CDO-ALLDAYEVENT:FALSE
SUMMARY:CBD Store Maitland Ribbon Cutting
DESCRIPTION:Join us as we welcome CBD Store Maitland with an official Maitland Chamber Ribbon Cutting Ceremony!
X-ALT-DESC;FMTTYPE=text/html:<span style="font-family:arial\;"><strong>Join us as we welcome CBD Store Maitland with an official Maitland Chamber Ribbon Cutting Ceremony!</strong></span>
LOCATION:400 N Orlando Ave #104R\, Maitland\, FL 32751
UID:e.1857.7145
SEQUENCE:3
DTSTAMP:20260419T150901Z
URL:https://business.maitlandchamber.com/events/details/cbd-store-maitland-ribbon-cutting-7145
END:VEVENT

END:VCALENDAR
