BEGIN:VCALENDAR
VERSION:2.0
PRODID:-//ChamberMaster//Event Calendar 2.0//EN
METHOD:PUBLISH
X-PUBLISHED-TTL:P3D
REFRESH-INTERVAL:P3D
CALSCALE:GREGORIAN
BEGIN:VEVENT
DTSTART:20190919T210000Z
DTEND:20190919T230000Z
X-MICROSOFT-CDO-ALLDAYEVENT:FALSE
SUMMARY:Business After Hours - Sam Snead's Tavern
DESCRIPTION:Business After Hours\n\nAt Sam Snead's Tavern\n\n1801 Maitland Boulevard\n\nOrlando\, FL  32810\n\n\n\n\n\n\n\nCome out and join local businesses and enjoy\n\nGood Food\, Great Networking\n\n& Even Door Prizes!
X-ALT-DESC;FMTTYPE=text/html:<div><span style="font-size:14px\;"><strong>Business After Hours<br />\nAt Sam Snead&#39\;s&nbsp\;Tavern</strong></span><br />\n1801 Maitland&nbsp\;Boulevard<br />\nOrlando\, FL &nbsp\;32810<br />\n<br />\n<br />\n<br />\nCome out and join&nbsp\;local businesses and enjoy<br />\nGood Food\, Great Networking<br />\n&amp\; Even Door Prizes!<br />\n<br />\n&nbsp\;</div>\n
LOCATION:
UID:e.1857.2117
SEQUENCE:3
DTSTAMP:20260423T232316Z
URL:https://business.maitlandchamber.com/events/details/business-after-hours-sam-snead-s-tavern-2117
END:VEVENT

END:VCALENDAR
