BEGIN:VCALENDAR
VERSION:2.0
PRODID:-//ChamberMaster//Event Calendar 2.0//EN
METHOD:PUBLISH
X-PUBLISHED-TTL:P3D
REFRESH-INTERVAL:P3D
CALSCALE:GREGORIAN
BEGIN:VEVENT
DTSTART:20171108T130000Z
DTEND:20171108T143000Z
X-MICROSOFT-CDO-ALLDAYEVENT:FALSE
SUMMARY:Board Of Directors Meeting
DESCRIPTION:Board Of Directors\n\nMeets 2nd Wednesday of Each Month
X-ALT-DESC;FMTTYPE=text/html:<div style="text-align: center\;"><br />\n<br />\n<strong>Board Of Directors<br />\nMeets 2nd Wednesday of&nbsp\;Each Month</strong></div>\n
LOCATION:Chamber Office 110 N. Maitland Avenue Maitland\, FL 32751
UID:e.1857.3822
SEQUENCE:3
DTSTAMP:20260425T144758Z
URL:https://business.maitlandchamber.com/events/details/board-of-directors-meeting-11-08-2017-3822
END:VEVENT

END:VCALENDAR
