BEGIN:VCALENDAR
VERSION:2.0
PRODID:-//ChamberMaster//Event Calendar 2.0//EN
METHOD:PUBLISH
X-PUBLISHED-TTL:P3D
REFRESH-INTERVAL:P3D
CALSCALE:GREGORIAN
BEGIN:VEVENT
DTSTART:20181025T210000Z
DTEND:20181025T223000Z
X-MICROSOFT-CDO-ALLDAYEVENT:FALSE
SUMMARY:Board Of Directors Meeting
DESCRIPTION:THIS IS A DATE CHANGE\n\nFOR THE OCTOBER MEETING\n\n\n\n\n\nBoard Of Directors\n\nMeets 3rd Thursday of Each Month
X-ALT-DESC;FMTTYPE=text/html:<div style="text-align: center\;">&nbsp\;</div>\n\n<h4 style="text-align: center\;"><span style="color:#FF0000\;"><strong><span style="font-size:16px\;">THIS IS A DATE CHANGE<br />\nFOR THE OCTOBER MEETING</span></strong></span><br />\n<br />\n<br />\n<span style="font-size:14px\;"><strong>Board Of Directors<br />\nMeets 3rd&nbsp\;Thursday of&nbsp\;Each Month</strong></span></h4>\n
LOCATION:Chamber Office 110 N. Maitland Avenue Maitland\, FL 32751
UID:e.1857.4354
SEQUENCE:3
DTSTAMP:20260424T184507Z
URL:https://business.maitlandchamber.com/events/details/board-of-directors-meeting-10-18-2018-4354
END:VEVENT

END:VCALENDAR
