BEGIN:VCALENDAR
VERSION:2.0
PRODID:-//ChamberMaster//Event Calendar 2.0//EN
METHOD:PUBLISH
X-PUBLISHED-TTL:P3D
REFRESH-INTERVAL:P3D
CALSCALE:GREGORIAN
BEGIN:VEVENT
DTSTART:20210916T210000Z
DTEND:20210916T223000Z
X-MICROSOFT-CDO-ALLDAYEVENT:FALSE
SUMMARY:Board Of Directors Meeting
DESCRIPTION:Monthly Board of Directors Meeting
X-ALT-DESC;FMTTYPE=text/html:Monthly Board of Directors Meeting
LOCATION:Virtual
UID:e.1857.6532
SEQUENCE:3
DTSTAMP:20260420T033114Z
URL:https://business.maitlandchamber.com/events/details/board-of-directors-meeting-09-16-2021-6532
END:VEVENT

END:VCALENDAR
