BEGIN:VCALENDAR
VERSION:2.0
PRODID:-//ChamberMaster//Event Calendar 2.0//EN
METHOD:PUBLISH
X-PUBLISHED-TTL:P3D
REFRESH-INTERVAL:P3D
CALSCALE:GREGORIAN
BEGIN:VEVENT
DTSTART:20180712T210000Z
DTEND:20180712T223000Z
X-MICROSOFT-CDO-ALLDAYEVENT:FALSE
SUMMARY:Board Of Directors Meeting
DESCRIPTION:Board Of Directors\n\nMeets 3rd Thursday of Each Month
X-ALT-DESC;FMTTYPE=text/html:<div style="text-align: center\;">&nbsp\;</div>\n\n<h4 style="text-align: center\;"><span style="font-size:16px\;"><strong>Board Of Directors<br />\nMeets 3rd&nbsp\;Thursday of&nbsp\;Each Month</strong></span></h4>\n
LOCATION:Chamber Office 110 N. Maitland Avenue Maitland\, FL 32751
UID:e.1857.4351
SEQUENCE:3
DTSTAMP:20260425T002404Z
URL:https://business.maitlandchamber.com/events/details/board-of-directors-meeting-07-19-2018-4351
END:VEVENT

END:VCALENDAR
