BEGIN:VCALENDAR
VERSION:2.0
PRODID:-//ChamberMaster//Event Calendar 2.0//EN
METHOD:PUBLISH
X-PUBLISHED-TTL:P3D
REFRESH-INTERVAL:P3D
CALSCALE:GREGORIAN
BEGIN:VEVENT
DTSTART:20200618T210000Z
DTEND:20200618T223000Z
X-MICROSOFT-CDO-ALLDAYEVENT:FALSE
SUMMARY:Board Of Directors Meeting
DESCRIPTION:
X-ALT-DESC;FMTTYPE=text/html:
LOCATION:
UID:e.1857.5854
SEQUENCE:3
DTSTAMP:20260423T073222Z
URL:https://business.maitlandchamber.com/events/details/board-of-directors-meeting-06-18-2020-5854
END:VEVENT

END:VCALENDAR
