BEGIN:VCALENDAR
VERSION:2.0
PRODID:-//ChamberMaster//Event Calendar 2.0//EN
METHOD:PUBLISH
X-PUBLISHED-TTL:P3D
REFRESH-INTERVAL:P3D
CALSCALE:GREGORIAN
BEGIN:VEVENT
DTSTART:20190418T210000Z
DTEND:20190418T223000Z
X-MICROSOFT-CDO-ALLDAYEVENT:FALSE
SUMMARY:Board Of Directors Meeting
DESCRIPTION:Board Of Directors\n\nMeets 3rd Thursday of each month
X-ALT-DESC;FMTTYPE=text/html:<div style="text-align: center\;"><br />\n<br />\n<strong>Board Of Directors<br />\nMeets 3rd Thursday of each month</strong></div>\n
LOCATION:PLEASE NOTE OUR NEW LOCATION The Q Luxury Apartments 430 East Packwood Ave Maitland\, FL 32751 www.theQatMaitland.com
UID:e.1857.4711
SEQUENCE:3
DTSTAMP:20260424T081113Z
URL:https://business.maitlandchamber.com/events/details/board-of-directors-meeting-04-10-2019-4711
END:VEVENT

END:VCALENDAR
