BEGIN:VCALENDAR
VERSION:2.0
PRODID:-//ChamberMaster//Event Calendar 2.0//EN
METHOD:PUBLISH
X-PUBLISHED-TTL:P3D
REFRESH-INTERVAL:P3D
CALSCALE:GREGORIAN
BEGIN:VEVENT
DTSTART:20211001T140000Z
DTEND:20211031T200000Z
X-MICROSOFT-CDO-ALLDAYEVENT:FALSE
SUMMARY:Audubon Owloween Skeleton Extravaganza
DESCRIPTION:Audubon Center for Birds of Prey will be celebrating Owl-o-Ween during the month of October. Visit the Center anytime during October to see life-sized skeletons of dinos\, cowboys\, vultures\, snakes\, and more. There are over 50 not-so-spooky skeletons displayed at the Center. The Skeleton Extravaganza event is included in the general admission price during operating hours\, so plan to bring the whole family for some ghoulish fun. Visitors who complete the Skeleton scavenger hunt will be entered to win a free annual pass! Photo opportunities available.
X-ALT-DESC;FMTTYPE=text/html:Audubon Center for Birds of Prey will be celebrating Owl-o-Ween during the month of October. Visit the Center anytime during October to see life-sized skeletons of dinos\, cowboys\, vultures\, snakes\, and more. There are over 50 not-so-spooky skeletons displayed at the Center. The Skeleton Extravaganza event is included in the general admission price during operating hours\, so plan to bring the whole family for some ghoulish fun. Visitors who complete the Skeleton scavenger hunt will be entered to win a free annual pass! Photo opportunities available.
LOCATION:Audubon Center for Birds of Prey 1101 Audubon Way Maitland\, FL 32751
UID:e.1857.6749
SEQUENCE:3
DTSTAMP:20260420T013708Z
URL:https://business.maitlandchamber.com/events/details/audubon-owloween-skeleton-extravaganza-6749
END:VEVENT

END:VCALENDAR
