BEGIN:VCALENDAR
VERSION:2.0
PRODID:-//ChamberMaster//Event Calendar 2.0//EN
METHOD:PUBLISH
X-PUBLISHED-TTL:P3D
REFRESH-INTERVAL:P3D
CALSCALE:GREGORIAN
BEGIN:VEVENT
DTSTART:20210514T213000Z
DTEND:20210515T000000Z
X-MICROSOFT-CDO-ALLDAYEVENT:FALSE
SUMMARY:Asbury Family Carnival
DESCRIPTION:Free Family Carnival! Ages birth to 5th grade.\n\nJoin us outside in our courtyard for pizza\, games\, face painting\, balloon animals and more!
X-ALT-DESC;FMTTYPE=text/html:Free Family Carnival! Ages birth to 5th grade.<br />\nJoin us outside in our courtyard for pizza\, games\, face painting\, balloon animals and more!
LOCATION:220 West Horatio Avenue maitland\, Florida\, 32751
UID:e.1857.6706
SEQUENCE:3
DTSTAMP:20260422T111004Z
URL:https://business.maitlandchamber.com/events/details/asbury-family-carnival-6706
END:VEVENT

END:VCALENDAR
