BEGIN:VCALENDAR
VERSION:2.0
PRODID:-//ChamberMaster//Event Calendar 2.0//EN
METHOD:PUBLISH
X-PUBLISHED-TTL:P3D
REFRESH-INTERVAL:P3D
CALSCALE:GREGORIAN
BEGIN:VEVENT
DTSTART:20190907T190000Z
DTEND:20190907T210000Z
X-MICROSOFT-CDO-ALLDAYEVENT:FALSE
SUMMARY:TRANSFORM THE ENERGY OF LOSS INTO THE ENERGY OF LOVE
DESCRIPTION:During this session you will learn a technique that will help transform the energy of loss into the energy of love. We have all experienced loss of some kind\, loss of a loved one\, a job\, a relationship and/or loss of physical wellness. We may have lost our sense of peace\, comfort and tranquility. How do we deal with these devastations? Based on Diane's new book\, Five Steps to Freedom\, this methodology utilizes a process that is extremely effective in letting go of negative emotional states and experiencing the best we can feel in any given moment.\n\nDiane will explain the way it works and guide you into an actual experience so that you can learn to practice on the heart level rather than the intellectual level. Practicing the Five Steps will help on the journey from loss to love\, from grief to hope. Please join us as we take this journey together. This is a technique that can enhance not only our lives\, but the lives on our entire community.
X-ALT-DESC;FMTTYPE=text/html:<p>During this session you will learn a technique that will help transform the energy of loss into the energy of love. We have all experienced loss of some kind\, loss of a loved one\, a job\, a relationship and/or loss of physical wellness. We may have lost our sense of peace\, comfort and tranquility. How do we deal with these devastations? Based on Diane&rsquo\;s new book\, Five Steps to Freedom\, this methodology utilizes a process that is extremely effective in letting go of negative emotional states and experiencing the best we can feel in any given moment.</p>\n\n<p>Diane will explain the way it works and guide you into an actual experience so that you can learn to practice on the heart level rather than the intellectual level. Practicing the Five Steps will help on the journey from loss to love\, from grief to hope. Please join us as we take this journey together. This is a technique that can enhance not only our lives\, but the lives on our entire community.</p>\n
LOCATION:Maitland Public Library 501 S Maitland Avenue Maitland FL
UID:e.1857.5232
SEQUENCE:3
DTSTAMP:20260423T232529Z
URL:https://business.maitlandchamber.com/events/details/an-afternoon-with-diane-l-ross-m-a-topic-to-follow-soon-5232
END:VEVENT

END:VCALENDAR
