BEGIN:VCALENDAR
VERSION:2.0
PRODID:-//ChamberMaster//Event Calendar 2.0//EN
METHOD:PUBLISH
X-PUBLISHED-TTL:P3D
REFRESH-INTERVAL:P3D
CALSCALE:GREGORIAN
BEGIN:VEVENT
DTSTART:20170705T130000Z
DTEND:20170705T140000Z
X-MICROSOFT-CDO-ALLDAYEVENT:FALSE
SUMMARY:Ambassadors & Membership Committee Meeting 2017
DESCRIPTION:AMBASSADORS\n\n&\n\nMEMBERSHIP\n\nCommittee Meeting\n\nDue To The Observance Of\n\nThe Independence Day Holiday\n\nThis Committee Will Be Meeting\n\nOn WEDNESDAY\, July 5th\n\nInstead of Tuesday\, July 4th\n\nFor This Month Only!\n\n\n\nPlease Mark Your Calendars Accordingly!
X-ALT-DESC;FMTTYPE=text/html:<h4 style="text-align: center\;"><br />\n<strong><span style="font-size:18px\;">AMBASSADORS<br />\n&amp\;<br />\nMEMBERSHIP<br />\nCommittee Meeting</span></strong></h4>\n\n<h4 style="text-align: center\;"><span style="color:#FF0000\;"><span style="font-size:16px\;"><strong>Due To The Observance Of<br />\nThe Independence Day Holiday<br />\nThis Committee Will Be Meeting<br />\nOn WEDNESDAY\, July 5th<br />\nInstead of Tuesday\, July 4th<br />\nFor This Month Only!<br />\n<br />\nPlease Mark Your Calendars Accordingly!</strong></span></span></h4>\n<br />\n<br />\n&nbsp\;
LOCATION:Chamber Office 110 N. Maitland Avenue Maitland\, FL 32751
UID:e.1857.4049
SEQUENCE:3
DTSTAMP:20260425T215607Z
URL:https://business.maitlandchamber.com/events/details/ambassadors-membership-committee-meeting-2017-07-04-2017-4049
END:VEVENT

END:VCALENDAR
