BEGIN:VCALENDAR
VERSION:2.0
PRODID:-//ChamberMaster//Event Calendar 2.0//EN
METHOD:PUBLISH
X-PUBLISHED-TTL:P3D
REFRESH-INTERVAL:P3D
CALSCALE:GREGORIAN
BEGIN:VEVENT
DTSTART:20170404T130000Z
DTEND:20170404T140000Z
X-MICROSOFT-CDO-ALLDAYEVENT:FALSE
SUMMARY:Ambassadors & Membership Committee Meeting 2017
DESCRIPTION:AMBASSADORS\n\n&\n\nMEMBERSHIP\n\nCommittee Meeting
X-ALT-DESC;FMTTYPE=text/html:<h4 style="text-align: center\;"><br />\n<strong><span style="font-size:18px\;">AMBASSADORS<br />\n&amp\;<br />\nMEMBERSHIP<br />\nCommittee Meeting</span></strong></h4>\n<br />\n&nbsp\;
LOCATION:Chamber Office 110 N. Maitland Avenue Maitland\, FL 32751
UID:e.1857.4046
SEQUENCE:3
DTSTAMP:20260426T031704Z
URL:https://business.maitlandchamber.com/events/details/ambassadors-membership-committee-meeting-2017-04-04-2017-4046
END:VEVENT

END:VCALENDAR
