BEGIN:VCALENDAR
VERSION:2.0
PRODID:-//ChamberMaster//Event Calendar 2.0//EN
METHOD:PUBLISH
X-PUBLISHED-TTL:P3D
REFRESH-INTERVAL:P3D
CALSCALE:GREGORIAN
BEGIN:VEVENT
DTSTART:20200415T130000Z
DTEND:20200415T140000Z
X-MICROSOFT-CDO-ALLDAYEVENT:FALSE
SUMMARY:Ambassador Meeting
DESCRIPTION:If you are interested in joining our Ambassador Committee\, please email Shonte at info@maitladchamber.com.
X-ALT-DESC;FMTTYPE=text/html:If you are interested in joining our Ambassador Committee\, please email Shonte at <a href="mailto:info@maitladchamber.com?subject=Ambassador%20Committee%20Inquiry">info@maitladchamber.com</a>.
LOCATION:
UID:e.1857.6231
SEQUENCE:3
DTSTAMP:20260423T111046Z
URL:https://business.maitlandchamber.com/events/details/ambassador-meeting-6231
END:VEVENT

END:VCALENDAR
